BEGIN:VCALENDAR
VERSION:2.0
PRODID:-//wp-events-plugin.com//7.2.3.1//EN
TZID:America/Kentucky/Louisville
X-WR-TIMEZONE:America/Kentucky/Louisville
BEGIN:VEVENT
UID:5@habitatcfi.org
DTSTART;TZID=America/Kentucky/Louisville:20240918T173000
DTEND;TZID=America/Kentucky/Louisville:20240918T200000
DTSTAMP:20240913T143750Z
URL:https://www.habitatcfi.org/events/hard-hats-high-heels/
SUMMARY:Hard Hats & High Heels
DESCRIPTION:Join us for an evening of "fun"draising at Mansion 1886! Event 
 sponsorships are available!
LOCATION:Mansion 1886\, 904 E Main Street\, New Albany\, Indiana\, 47150\, 
 United States
X-APPLE-STRUCTURED-LOCATION;VALUE=URI;X-ADDRESS=904 E Main Street\, New Alb
 any\, Indiana\, 47150\, United States;X-APPLE-RADIUS=100;X-TITLE=Mansion 1
 886:geo:0,0
END:VEVENT
BEGIN:VTIMEZONE
TZID:America/Kentucky/Louisville
X-LIC-LOCATION:America/Kentucky/Louisville
BEGIN:DAYLIGHT
DTSTART:20240310T030000
TZOFFSETFROM:-0500
TZOFFSETTO:-0400
TZNAME:EDT
END:DAYLIGHT
END:VTIMEZONE
END:VCALENDAR