BEGIN:VCALENDAR
VERSION:2.0
PRODID:-//wp-events-plugin.com//7.2.3.1//EN
TZID:America/Kentucky/Louisville
X-WR-TIMEZONE:America/Kentucky/Louisville
BEGIN:VEVENT
UID:8@habitatcfi.org
DTSTART;TZID=America/Kentucky/Louisville;VALUE=DATE:20250723
DTEND;TZID=America/Kentucky/Louisville;VALUE=DATE:20250724
DTSTAMP:20250715T153906Z
URL:https://www.habitatcfi.org/events/calhoun-construction-golf-scramble/
SUMMARY:Calhoun Construction Golf Scramble
DESCRIPTION:Elk Run Golf Club\n\nJeffersonville\, IN\n\nClick here for more
  information.\n\n
ATTACH;FMTTYPE=image/jpeg:https://www.habitatcfi.org/wp-content/uploads/20
 23/12/calhoun.jpg
END:VEVENT
BEGIN:VTIMEZONE
TZID:America/Kentucky/Louisville
X-LIC-LOCATION:America/Kentucky/Louisville
BEGIN:DAYLIGHT
DTSTART:20250309T030000
TZOFFSETFROM:-0500
TZOFFSETTO:-0400
TZNAME:EDT
END:DAYLIGHT
END:VTIMEZONE
END:VCALENDAR