BEGIN:VCALENDAR
VERSION:2.0
PRODID:-//wp-events-plugin.com//7.2.3.1//EN
TZID:America/Kentucky/Louisville
X-WR-TIMEZONE:America/Kentucky/Louisville
BEGIN:VEVENT
UID:1@habitatcfi.org
DTSTART;TZID=America/Kentucky/Louisville:20240724T070000
DTEND;TZID=America/Kentucky/Louisville:20240724T070000
DTSTAMP:20240619T142409Z
URL:https://www.habitatcfi.org/events/2024-habitat-golf-scramble/
SUMMARY:2024 Habitat Golf Scramble
DESCRIPTION:Enjoy a Golf Scramble to benefit Habitat for Humanity Clark & F
 loyd Indiana at Elk Run Golf Course. Hosted by Calhoun Construction Servic
 es. 
ATTACH;FMTTYPE=image/jpeg:https://www.habitatcfi.org/wp-content/uploads/20
 24/01/Calhoun-Golf-Outing-2023.jpg
LOCATION:Elk Run Golf Club\, 1820 Charlestown Pike\, Jeffersonville\, India
 na\, 47130\, United States
X-APPLE-STRUCTURED-LOCATION;VALUE=URI;X-ADDRESS=1820 Charlestown Pike\, Jef
 fersonville\, Indiana\, 47130\, United States;X-APPLE-RADIUS=100;X-TITLE=E
 lk Run Golf Club:geo:0,0
END:VEVENT
BEGIN:VTIMEZONE
TZID:America/Kentucky/Louisville
X-LIC-LOCATION:America/Kentucky/Louisville
BEGIN:DAYLIGHT
DTSTART:20240310T030000
TZOFFSETFROM:-0500
TZOFFSETTO:-0400
TZNAME:EDT
END:DAYLIGHT
END:VTIMEZONE
END:VCALENDAR